BEGIN:VCALENDAR
VERSION:2.0
PRODID:icalendar-ruby
CALSCALE:GREGORIAN
METHOD:PUBLISH
BEGIN:VEVENT
DTSTAMP:20260420T044836Z
UID:380-37343@saintlaurence.ca
DTSTART:20260519T203000Z
DTEND:20260519T220000Z
CLASS:PUBLIC
CREATED:20260419T121555
DESCRIPTION:Phoenix Friends meets on the third Tuesday of each month at 1:3
 0 PM for fellowship\, friendship and good conversation!\nALL WOMEN are wel
 come. 
LAST-MODIFIED:20260419T121555
LOCATION:
SUMMARY:Phoenix Friends
URL;VALUE=URI:https://www.saintlaurence.ca/events/phoenix-friends--380/2026
 -05-19
ATTACH;FILENAME=phoenix logo 2023.jpg;FMTTYPE=image/jpeg:https://dq5pwpg1q8
 ru0.cloudfront.net/2023/04/06/14/57/34/ad6d7f43-d81a-4572-a2eb-4a75d8597b2
 2/phoenix%20logo%202023.jpg
END:VEVENT
END:VCALENDAR
