BEGIN:VCALENDAR
VERSION:2.0
PRODID:icalendar-ruby
CALSCALE:GREGORIAN
METHOD:PUBLISH
BEGIN:VEVENT
DTSTAMP:20260425T113218Z
UID:478-37363@saintlaurence.ca
DTSTART:20260616T023000Z
DTEND:20260616T040000Z
CLASS:PUBLIC
CREATED:20260422T161611
DESCRIPTION:Now open for registration.\nEvery Monday evening from 7:30 to 9
  pm\, May 25 to June 29. In person at Saint Laurence. \nWe will be discus
 sing ALLY IS A VERB A Guide to Reconciliation with Indigenous People by Ro
 se LeMay.\nThe book is available for purchase for $21 or can be borrowed 
 for the duration of the book study. Payment via cash\, e-transfer\, cheque
  or credit card. It is also available from the library and local bookstore
 s.  \nPlease contact Curt in the Church office to register.
LAST-MODIFIED:20260422T161611
LOCATION:St. Laurence Anglican Church
SUMMARY:Walking the Path to Reconciliation: Book Study
URL;VALUE=URI:https://www.saintlaurence.ca/events/walking-the-path-to-recon
 ciliation-book-study/2026-06-15
ATTACH;FILENAME=Screenshot_20260422_161439_Google.jpg;FMTTYPE=image/jpeg:ht
 tps://dq5pwpg1q8ru0.cloudfront.net/2026/04/22/23/16/11/3deba412-3a08-4e13-
 a3e8-c60988077380/Screenshot_20260422_161439_Google.jpg
END:VEVENT
END:VCALENDAR
