BEGIN:VCALENDAR
VERSION:2.0
PRODID:icalendar-ruby
CALSCALE:GREGORIAN
METHOD:PUBLISH
BEGIN:VEVENT
DTSTAMP:20260423T165420Z
UID:391-37345@saintlaurence.ca
DTSTART:20260506T160000Z
DTEND:20260506T170000Z
CLASS:PUBLIC
CREATED:20260422T112956
DESCRIPTION:Scripture\, Conversation and Communion\nWednesdays at 9am\nWe g
 ather midweek for Communion and honest conversation - from silence to laug
 hter\, scripture to table. A safe space to share questions\, explore diver
 se perspectives\, and wrestle with faith in good company. Everyone welcome
 .
LAST-MODIFIED:20260422T112956
LOCATION:
SUMMARY:Wednesday Morning Gathering
URL;VALUE=URI:https://www.saintlaurence.ca/events/wednesday-morning-gatheri
 ng/2026-05-06
ATTACH;FILENAME=bible.jpg;FMTTYPE=image/jpeg:https://dq5pwpg1q8ru0.cloudfro
 nt.net/2023/04/28/21/07/46/78a3e95c-7fc1-421e-98f2-61aef5210c95/bible.jpg
END:VEVENT
END:VCALENDAR
